{
 "documentInfo": {
  "Category": "",
  "Keywords": "elevation,contour,topographic",
  "Version": "2.9.0",
  "Comments": "Displays contour lines for Washtenaw County, at various indexes and scales.\n\n2017",
  "AntialiasingMode": "Fast",
  "Title": "Contour Base",
  "Author": "",
  "TextAntialiasingMode": "Force",
  "Subject": "Displays contour lines for Washtenaw County, at various indexes and scales."
 },
 "maxImageWidth": 4096,
 "wmtsScaleFactor": 0.0009186351706037901,
 "maxRecordCount": 10,
 "tileInfo": {
  "lods": [
   {
    "level": 0,
    "scale": 460800,
    "resolution": 400.0008000016
   },
   {
    "level": 1,
    "scale": 307200,
    "resolution": 266.66720000106665
   },
   {
    "level": 2,
    "scale": 153600,
    "resolution": 133.33360000053332
   },
   {
    "level": 3,
    "scale": 76800,
    "resolution": 66.666800000266662
   },
   {
    "level": 4,
    "scale": 38400,
    "resolution": 33.333400000133331
   },
   {
    "level": 5,
    "scale": 19200,
    "resolution": 16.666700000066665
   },
   {
    "level": 6,
    "scale": 9600,
    "resolution": 8.3333500000333327
   },
   {
    "level": 7,
    "scale": 4800,
    "resolution": 4.1666750000166664
   },
   {
    "level": 8,
    "scale": 2400,
    "resolution": 2.0833375000083332
   },
   {
    "level": 9,
    "scale": 1200,
    "resolution": 1.0416687500041666
   },
   {
    "level": 10,
    "scale": 600,
    "resolution": 0.52083437500208329
   }
  ],
  "origin": {
   "x": -107138600,
   "y": 143330100.00000003
  },
  "format": "MIXED",
  "compressionQuality": 75,
  "rows": 256,
  "dpi": 96,
  "spatialReference": {
   "falseM": -100000,
   "xyTolerance": 0.0032808398950131233,
   "mUnits": 10000,
   "zUnits": 10000,
   "latestWkid": 2253,
   "zTolerance": 0.001,
   "wkid": 2253,
   "xyUnits": 37448250.4846337065,
   "mTolerance": 0.001,
   "falseX": -107138600,
   "falseY": -97193800,
   "falseZ": -100000
  },
  "cols": 256
 },
 "description": "Displays contour lines for Washtenaw County, at various indexes and scales.\n\n2017",
 "datesInUnknownTimezone": false,
 "supportsQueryDomains": true,
 "units": "esriFeet",
 "maxSelectionCount": 2000,
 "supportedImageFormatTypes": "PNG32,PNG24,PNG,JPG,DIB,TIFF,EMF,PS,PDF,GIF,SVG,SVGZ,BMP",
 "supportsClipping": true,
 "exportTilesAllowed": false,
 "maxImageHeight": 4096,
 "tables": [],
 "hasVersionedData": false,
 "supportsDatumTransformation": true,
 "cimVersion": "3.7.0",
 "supportsQueryDataElements": true,
 "layers": [
  {
   "subLayerIds": [
    1,
    2
   ],
   "maxScale": 100000,
   "name": "100ft",
   "defaultVisibility": true,
   "id": 0,
   "minScale": 500000,
   "supportsDynamicLegends": false,
   "type": "Group Layer",
   "parentLayerId": -1
  },
  {
   "subLayerIds": [
    4,
    5
   ],
   "maxScale": 19201,
   "name": "20ft",
   "defaultVisibility": true,
   "id": 3,
   "minScale": 99999,
   "supportsDynamicLegends": false,
   "type": "Group Layer",
   "parentLayerId": -1
  },
  {
   "subLayerIds": [
    7,
    8
   ],
   "maxScale": 4801,
   "name": "10ft",
   "defaultVisibility": true,
   "id": 6,
   "minScale": 19200,
   "supportsDynamicLegends": false,
   "type": "Group Layer",
   "parentLayerId": -1
  },
  {
   "subLayerIds": [
    10,
    11
   ],
   "maxScale": 1201,
   "name": "2ft",
   "defaultVisibility": true,
   "id": 9,
   "minScale": 4800,
   "supportsDynamicLegends": false,
   "type": "Group Layer",
   "parentLayerId": -1
  }
 ],
 "mapName": "Layers",
 "minScale": 460800,
 "archivingInfo": {
  "supportsHistoricMoment": false
 },
 "spatialReference": {
  "falseM": -100000,
  "xyTolerance": 0.0032808398950131233,
  "mUnits": 10000,
  "zUnits": 10000,
  "latestWkid": 2253,
  "zTolerance": 0.001,
  "wkid": 2253,
  "xyUnits": 37448250.4846337065,
  "mTolerance": 0.001,
  "falseX": -107138600,
  "falseY": -97193800,
  "falseZ": -100000
 },
 "tileImageInfo": {
  "bandCount": 1,
  "lercError": 0,
  "format": "MIXED",
  "compressionQuality": 75
 },
 "fullExtent": {
  "ymin": 191280.374015746,
  "xmin": 13157881.277176287,
  "ymax": 358988.70734907937,
  "xmax": 13376457.666065175,
  "spatialReference": {
   "falseM": -100000,
   "xyTolerance": 0.0032808398950131233,
   "mUnits": 10000,
   "zUnits": 10000,
   "latestWkid": 2253,
   "zTolerance": 0.001,
   "wkid": 2253,
   "xyUnits": 37448250.4846337065,
   "mTolerance": 0.001,
   "falseX": -107138600,
   "falseY": -97193800,
   "falseZ": -100000
  }
 },
 "supportedExtensions": "",
 "capabilities": "Map",
 "supportsDynamicLayers": false,
 "maxScale": 600,
 "singleFusedMapCache": true,
 "currentVersion": 12.1,
 "storageInfo": {
  "storageFormat": "esriMapCacheStorageModeCompactV2",
  "packetSize": 128
 },
 "hasBranchVersionedData": false,
 "mapUnits": {
  "uwkid": 9002
 },
 "referenceScale": 0,
 "supportsSpatialFilter": true,
 "supportedQueryFormats": "JSON, geoJSON, PBF",
 "datumTransformations": [
  {
   "geoTransforms": [
    {
     "latestWkid": 1241,
     "transformForward": true,
     "wkid": 108001,
     "name": "NAD_1927_To_NAD_1983_NADCON"
    }
   ]
  },
  {
   "geoTransforms": [
    {
     "latestWkid": 1241,
     "transformForward": false,
     "wkid": 108001,
     "name": "NAD_1927_To_NAD_1983_NADCON"
    }
   ]
  }
 ],
 "initialExtent": {
  "ymin": 219469.48766258819,
  "xmin": 13295254.490638711,
  "ymax": 304931.53814668168,
  "xmax": 13374501.119269416,
  "spatialReference": {
   "falseM": -100000,
   "xyTolerance": 0.0032808398950131233,
   "mUnits": 10000,
   "zUnits": 10000,
   "latestWkid": 2253,
   "zTolerance": 0.001,
   "wkid": 2253,
   "xyUnits": 37448250.4846337065,
   "mTolerance": 0.001,
   "falseX": -107138600,
   "falseY": -97193800,
   "falseZ": -100000
  }
 },
 "serviceDescription": "Displays contour lines for Washtenaw County, at various indexes and scales.\n\nElevation is based on LiDAR-derived DEM from 2009, plus field modifications as needed by Water Resource Commissioner's Office. ",
 "copyrightText": "Washtenaw County",
 "supportsTimeRelation": true
}
