{
 "documentInfo": {
  "Category": "",
  "Keywords": "",
  "Version": "3.4.0",
  "Comments": "",
  "AntialiasingMode": "Best",
  "Title": "Map",
  "Author": "",
  "TextAntialiasingMode": "Force",
  "Subject": ""
 },
 "maxImageWidth": 4096,
 "wmtsScaleFactor": 0.0009186351706037901,
 "maxRecordCount": 2000,
 "tileInfo": {
  "lods": [
   {
    "level": 0,
    "scale": 460800,
    "resolution": 400.0008000016
   },
   {
    "level": 1,
    "scale": 307200,
    "resolution": 266.66720000106665
   },
   {
    "level": 2,
    "scale": 153600,
    "resolution": 133.33360000053332
   },
   {
    "level": 3,
    "scale": 76800,
    "resolution": 66.666800000266662
   },
   {
    "level": 4,
    "scale": 38400,
    "resolution": 33.333400000133331
   },
   {
    "level": 5,
    "scale": 19200,
    "resolution": 16.666700000066665
   },
   {
    "level": 6,
    "scale": 9600,
    "resolution": 8.3333500000333327
   },
   {
    "level": 7,
    "scale": 4800,
    "resolution": 4.1666750000166664
   },
   {
    "level": 8,
    "scale": 2400,
    "resolution": 2.0833375000083332
   },
   {
    "level": 9,
    "scale": 1200,
    "resolution": 1.0416687500041666
   },
   {
    "level": 10,
    "scale": 600,
    "resolution": 0.52083437500208329
   },
   {
    "level": 11,
    "scale": 480,
    "resolution": 0.41666750000166664
   },
   {
    "level": 12,
    "scale": 240,
    "resolution": 0.20833375000083332
   }
  ],
  "origin": {
   "x": -107138600,
   "y": 143330100.00000003
  },
  "format": "MIXED",
  "compressionQuality": 75,
  "rows": 256,
  "dpi": 96,
  "spatialReference": {
   "falseM": -100000,
   "xyTolerance": 0.0032808398950131233,
   "mUnits": 10000,
   "zUnits": 10000,
   "latestWkid": 2253,
   "zTolerance": 0.001,
   "wkid": 2253,
   "xyUnits": 37448250.4846337065,
   "mTolerance": 0.001,
   "falseX": -107138600,
   "falseY": -97193800,
   "falseZ": -100000
  },
  "cols": 256
 },
 "description": "",
 "datesInUnknownTimezone": false,
 "supportsQueryDomains": true,
 "units": "esriFeet",
 "maxSelectionCount": 2000,
 "supportedImageFormatTypes": "PNG32,PNG24,PNG,JPG,DIB,TIFF,EMF,PS,PDF,GIF,SVG,SVGZ,BMP",
 "supportsClipping": true,
 "exportTilesAllowed": false,
 "maxImageHeight": 4096,
 "tables": [],
 "hasVersionedData": false,
 "supportsDatumTransformation": true,
 "cimVersion": "3.7.0",
 "supportsQueryDataElements": true,
 "layers": [
  {
   "subLayerIds": null,
   "maxScale": 0,
   "name": "O2024_boundary",
   "defaultVisibility": true,
   "id": 0,
   "minScale": 0,
   "supportsDynamicLegends": true,
   "type": "Feature Layer",
   "parentLayerId": -1,
   "geometryType": "esriGeometryPolygon"
  }
 ],
 "mapName": "Map",
 "minScale": 460800,
 "archivingInfo": {
  "supportsHistoricMoment": false
 },
 "spatialReference": {
  "falseM": -100000,
  "xyTolerance": 0.0032808398950131233,
  "mUnits": 10000,
  "zUnits": 10000,
  "latestWkid": 2253,
  "zTolerance": 0.001,
  "wkid": 2253,
  "xyUnits": 3048,
  "mTolerance": 0.001,
  "falseX": -107138600,
  "falseY": -97193800,
  "falseZ": -100000
 },
 "tileImageInfo": {
  "bandCount": 1,
  "lercError": 0,
  "format": "MIXED",
  "compressionQuality": 75
 },
 "fullExtent": {
  "ymin": 205000.01640419662,
  "xmin": 13182500.007874012,
  "ymax": 345000.01640419662,
  "xmax": 13352500.007874012,
  "spatialReference": {
   "falseM": -100000,
   "xyTolerance": 0.0032808398950131233,
   "mUnits": 10000,
   "zUnits": 10000,
   "latestWkid": 2253,
   "zTolerance": 0.001,
   "wkid": 2253,
   "xyUnits": 3048,
   "mTolerance": 0.001,
   "falseX": -107138600,
   "falseY": -97193800,
   "falseZ": -100000
  }
 },
 "supportedExtensions": "",
 "capabilities": "Map",
 "supportsDynamicLayers": false,
 "maxScale": 240,
 "singleFusedMapCache": true,
 "currentVersion": 12.1,
 "storageInfo": {
  "storageFormat": "esriMapCacheStorageModeCompactV2",
  "packetSize": 128
 },
 "hasBranchVersionedData": false,
 "mapUnits": {
  "uwkid": 9002
 },
 "referenceScale": 0,
 "supportsSpatialFilter": true,
 "supportedQueryFormats": "JSON, geoJSON, PBF",
 "initialExtent": {
  "ymin": 171542.20174306247,
  "xmin": 13174000.007874012,
  "ymax": 378457.83106533077,
  "xmax": 13361000.007874012,
  "spatialReference": {
   "falseM": -100000,
   "xyTolerance": 0.0032808398950131233,
   "mUnits": 10000,
   "zUnits": 10000,
   "latestWkid": 2253,
   "zTolerance": 0.001,
   "wkid": 2253,
   "xyUnits": 3048,
   "mTolerance": 0.001,
   "falseX": -107138600,
   "falseY": -97193800,
   "falseZ": -100000
  }
 },
 "serviceDescription": "",
 "copyrightText": "",
 "supportsTimeRelation": true
}
